BEGIN:VCALENDAR
VERSION:2.0
PRODID:-//Pro Flandria - ECPv6.15.20//NONSGML v1.0//EN
CALSCALE:GREGORIAN
METHOD:PUBLISH
X-ORIGINAL-URL:https://www.proflandria.be
X-WR-CALDESC:Evenementen voor Pro Flandria
REFRESH-INTERVAL;VALUE=DURATION:PT1H
X-Robots-Tag:noindex
X-PUBLISHED-TTL:PT1H
BEGIN:VTIMEZONE
TZID:Europe/Brussels
BEGIN:DAYLIGHT
TZOFFSETFROM:+0100
TZOFFSETTO:+0200
TZNAME:CEST
DTSTART:20230326T010000
END:DAYLIGHT
BEGIN:STANDARD
TZOFFSETFROM:+0200
TZOFFSETTO:+0100
TZNAME:CET
DTSTART:20231029T010000
END:STANDARD
BEGIN:DAYLIGHT
TZOFFSETFROM:+0100
TZOFFSETTO:+0200
TZNAME:CEST
DTSTART:20240331T010000
END:DAYLIGHT
BEGIN:STANDARD
TZOFFSETFROM:+0200
TZOFFSETTO:+0100
TZNAME:CET
DTSTART:20241027T010000
END:STANDARD
BEGIN:DAYLIGHT
TZOFFSETFROM:+0100
TZOFFSETTO:+0200
TZNAME:CEST
DTSTART:20250330T010000
END:DAYLIGHT
BEGIN:STANDARD
TZOFFSETFROM:+0200
TZOFFSETTO:+0100
TZNAME:CET
DTSTART:20251026T010000
END:STANDARD
END:VTIMEZONE
BEGIN:VEVENT
DTSTART;TZID=Europe/Brussels:20240615T090000
DTEND;TZID=Europe/Brussels:20240615T130000
DTSTAMP:20260424T205100
CREATED:20250514T145154Z
LAST-MODIFIED:20250515T063756Z
UID:1170-1718442000-1718456400@www.proflandria.be
SUMMARY:Een week na de verkiezingen\, de financiële en economische uitdagingen
DESCRIPTION:Pro Flandria houdt jou op zaterdag 15 juni een spiegel voor.\n\n\n\nDirect na de stembus gang maken we een eerste bilan.\nWe focussen op de financiële en economische uitdagingen die ons te wachten staan met Pascal Paepen\, Prof KU Leuven en beursexpert en met Ivan Van de Cloot\, CEO van de Stichting Merito-Vlaanderen in Europa.\n\n\n· Hoe schatten zij de huidige situatie in ?\n· Welke uitwegen zien zij uit deze crisis ?\n· Na de twee presentaties is er ruim de tijd voor uw vragen.\n\n\nWe hopen jou op 15/6 opnieuw zeer talrijk te mogen verwelkomen!\nOnze leden kunnen gasten mee uitnodigen .\nZoals steeds vragen we discretie en vergaderen we onder de Chatham House Rules.\n\n\nNB: dit is een ledenvergadering\, niet leden op uitnodiging
URL:https://www.proflandria.be/event/een-week-na-de-verkiezingen-de-financiele-en-economische-uitdagingen/
LOCATION:De Jachthoorn te Kontich\, Doornstraat 11\, Kontich\, Antwerpen\, 2550\, Belgium
CATEGORIES:Info sessie
ORGANIZER;CN="Pro Flandria":MAILTO:secretaris@proflandria.be
END:VEVENT
END:VCALENDAR