BEGIN:VCALENDAR
VERSION:2.0
PRODID:-//Pro Flandria - ECPv6.15.20//NONSGML v1.0//EN
CALSCALE:GREGORIAN
METHOD:PUBLISH
X-WR-CALNAME:Pro Flandria
X-ORIGINAL-URL:https://www.proflandria.be
X-WR-CALDESC:Evenementen voor Pro Flandria
REFRESH-INTERVAL;VALUE=DURATION:PT1H
X-Robots-Tag:noindex
X-PUBLISHED-TTL:PT1H
BEGIN:VTIMEZONE
TZID:Europe/Brussels
BEGIN:DAYLIGHT
TZOFFSETFROM:+0100
TZOFFSETTO:+0200
TZNAME:CEST
DTSTART:20230326T010000
END:DAYLIGHT
BEGIN:STANDARD
TZOFFSETFROM:+0200
TZOFFSETTO:+0100
TZNAME:CET
DTSTART:20231029T010000
END:STANDARD
BEGIN:DAYLIGHT
TZOFFSETFROM:+0100
TZOFFSETTO:+0200
TZNAME:CEST
DTSTART:20240331T010000
END:DAYLIGHT
BEGIN:STANDARD
TZOFFSETFROM:+0200
TZOFFSETTO:+0100
TZNAME:CET
DTSTART:20241027T010000
END:STANDARD
BEGIN:DAYLIGHT
TZOFFSETFROM:+0100
TZOFFSETTO:+0200
TZNAME:CEST
DTSTART:20250330T010000
END:DAYLIGHT
BEGIN:STANDARD
TZOFFSETFROM:+0200
TZOFFSETTO:+0100
TZNAME:CET
DTSTART:20251026T010000
END:STANDARD
END:VTIMEZONE
BEGIN:VEVENT
DTSTART;TZID=Europe/Brussels:20240205T090000
DTEND;TZID=Europe/Brussels:20240205T130000
DTSTAMP:20260424T223127
CREATED:20250514T145447Z
LAST-MODIFIED:20250515T063809Z
UID:1172-1707123600-1707138000@www.proflandria.be
SUMMARY:Pro Flandria (net)werkt!
DESCRIPTION:We zijn het nieuwe jaar goed gestart met een nieuw en bruisend initiatief onder de titel “ Pro Flandria (net)werkt!” op maandag 5/2 in Biznis hotel te Lokeren.\n\n\nEen vijftigtal enthousiaste leden konden er kennismaken met mekaar en ervaringen uitwisselen. Aan een serieus tempo werd gewisseld van tafels zodat iedereen vrijwel iedereen ontmoette. De reacties waren unaniem lovend! Voor herhaling vatbaar en zeker nuttig om ook nieuwere leden sneller op te nemen in onze netwerkorganisatie.
URL:https://www.proflandria.be/event/pro-flandria-netwerkt/
LOCATION:Biznis hotel Lokeren\, Zelebaan 100\, Lokeren\, Antwerpen\, 9160\, Belgium
CATEGORIES:Netwerkevenement
ORGANIZER;CN="Pro Flandria":MAILTO:secretaris@proflandria.be
END:VEVENT
END:VCALENDAR