BEGIN:VCALENDAR
VERSION:2.0
PRODID:-//Pro Flandria - ECPv6.15.20//NONSGML v1.0//EN
CALSCALE:GREGORIAN
METHOD:PUBLISH
X-ORIGINAL-URL:https://www.proflandria.be
X-WR-CALDESC:Evenementen voor Pro Flandria
REFRESH-INTERVAL;VALUE=DURATION:PT1H
X-Robots-Tag:noindex
X-PUBLISHED-TTL:PT1H
BEGIN:VTIMEZONE
TZID:Europe/Brussels
BEGIN:DAYLIGHT
TZOFFSETFROM:+0100
TZOFFSETTO:+0200
TZNAME:CEST
DTSTART:20240331T010000
END:DAYLIGHT
BEGIN:STANDARD
TZOFFSETFROM:+0200
TZOFFSETTO:+0100
TZNAME:CET
DTSTART:20241027T010000
END:STANDARD
BEGIN:DAYLIGHT
TZOFFSETFROM:+0100
TZOFFSETTO:+0200
TZNAME:CEST
DTSTART:20250330T010000
END:DAYLIGHT
BEGIN:STANDARD
TZOFFSETFROM:+0200
TZOFFSETTO:+0100
TZNAME:CET
DTSTART:20251026T010000
END:STANDARD
BEGIN:DAYLIGHT
TZOFFSETFROM:+0100
TZOFFSETTO:+0200
TZNAME:CEST
DTSTART:20260329T010000
END:DAYLIGHT
BEGIN:STANDARD
TZOFFSETFROM:+0200
TZOFFSETTO:+0100
TZNAME:CET
DTSTART:20261025T010000
END:STANDARD
BEGIN:DAYLIGHT
TZOFFSETFROM:+0100
TZOFFSETTO:+0200
TZNAME:CEST
DTSTART:20270328T010000
END:DAYLIGHT
BEGIN:STANDARD
TZOFFSETFROM:+0200
TZOFFSETTO:+0100
TZNAME:CET
DTSTART:20271031T010000
END:STANDARD
END:VTIMEZONE
BEGIN:VEVENT
DTSTART;TZID=Europe/Brussels:20250920T090000
DTEND;TZID=Europe/Brussels:20250920T130000
DTSTAMP:20260425T155108
CREATED:20250714T193702Z
LAST-MODIFIED:20260407T193524Z
UID:4570-1758358800-1758373200@www.proflandria.be
SUMMARY:"Nederland Quo Vadis?"
DESCRIPTION:De aanstaande verkiezingen in Nederland\, einde oktober is het onderwerp van onze ledenvergadering van 20 september.\nVlaanderen én Nederland\, de Lage Landen\, liggen ons zeer nauw aan het hart! Nederland en Vlaanderen hebben ook heel wat gemeen.\nWat zich ginder afspeelt is ook voor ons relevant. \nWelke items zullen een doorslaggevende rol spelen?\nDe slabakkende economie\, de tekorten in de huisvesting\, de groeiende migratieproblematiek?\nWat dan met de coalitie vorming? \nWe zijn dan ook bijzonder verheugd dat een ervaren politiek redacteur uit Nederland ons deskundige uitleg komt verschaffen.\nMevrouw Carla Joosten van het magazine EW ( het vroegere Elsevier ) is bereid om ons toe te spreken over de inzet van die verkiezingen.\n“Nederland quo vadis?” \n\nZij wordt voor die gelegenheid uitvoerig geïnterviewd door dhr Axel Buyse\, die als gewezen ambassadeur voor Vlaanderen in Den Haag en bij de EU bijzonder geschikt is om de juiste vragen te stellen.\nEn na hun gesprek is er ruim de tijd voor uw vragen. \nHet wordt opnieuw een boeiende en leerrijke vergadering!\nWe rekenen op uw talrijke aanwezigheid. \nLeden komen gratis naar de vergadering en de receptie.\nTijdig inschrijven is wel noodzakelijk! \nLeden kunnen niet leden die onze netwerkorganisatie genegen zijn en de Chatham House Rules respecteren mee uitnodigen.\nZij betalen bij inschrijving 45 euro voor vergadering + receptie. \nVoor de lunch zijn we helaas verplicht om de prijs voor iedereen te verhogen naar 70 euro. Wie regelmatig bij de horeca passeert zal begrijpen dat deze verhoging met 5 euro niet te vermijden valt. \n 
URL:https://www.proflandria.be/event/nederland-quo-vadis-carla-joosten/
LOCATION:Hotel Serwir\, Astridlaan 57\, Sint-Niklaas\, Antwerpen\, 9100\, Belgium
CATEGORIES:Ledenvergadering
ATTACH;FMTTYPE=image/jpeg:https://www.proflandria.be/wp-content/uploads/2025/07/Uitnodiging.jpg
ORGANIZER;CN="Pro Flandria":MAILTO:secretaris@proflandria.be
END:VEVENT
BEGIN:VEVENT
DTSTART;TZID=Europe/Brussels:20251115T090000
DTEND;TZID=Europe/Brussels:20251115T130000
DTSTAMP:20260425T155108
CREATED:20250714T193907Z
LAST-MODIFIED:20260407T193714Z
UID:4572-1763197200-1763211600@www.proflandria.be
SUMMARY:Deals sluiten in een geglobaliseerde wereld: Brussel\, Londen\, New York\, ...
DESCRIPTION:Onze eerste ledenvergadering van dit werkjaar\, op 20/9\, met mevrouw Carla Joosten van EW geïnterviewd door dhr Axel Buyse\, ging over de aanstaande verkiezingen in Nederland\, de gelijkenissen met Vlaanderen en de toekomst van de Lage Landen. Er werd levendig van gedachten gewisseld ook over de EU\, over de onrealistische Green Deal en over de wereldvreemde bubbel waarin vele media verkeren. Het is fijn en verrijkend voor onze netwerkorganisatie wanneer meningen en overtuigingen op decente wijze ter discussie worden gesteld. \nOnze tweede ledenvergadering van dit werkjaar 2025-2026 biedt opnieuw die mogelijkheid. Hoe komen belangrijke internationale deals tot stand? Welke belangen overheersen in een geglobaliseerde wereld? Hoe betrouwbaar zijn de rechtssystemen wereldwijd? Wat zijn de risico’s bij deals van tientallen miljarden euro? Zijn de super grote bedrijven vandaag machtiger dan hun overheden? Is het zaken doen voldoende doordrongen van ethiek en fatsoen? Wat speelt er zich af boven onze hoofden en spelen wij in Vlaanderen en Europa nog enige rol van betekenis? \nVragen te over om voor te leggen aan een expert ter zake\, een Vlaamse top advocaat. \nOp zaterdag 15/11 is dhr Wim Dejonghe onze spreker. \nWim Dejonghe was managing partner (2008 – 2016) en senior partner (2016 – 2024) van Allen & Overy en kon in oktober 2023 de transatlantische fusie met Shearman Sterling aankondigen\, hetgeen een advocatenkantoor met circa 4000 advocaten (waarvan circa 800 partners) in 29 landen tot stand bracht. Gespecialiseerd in fusies en overnames verwierf hij inzicht in de uitdagingen van de globalisering in de financiële en bedrijfswereld\, evenals in het managen van wereldwijde juridische dienstverlening door advocaten. Hij ontving verschillende awards\, o.m. uitgereikt door Financial Times\, en onder zijn leiding behaalde Allen & Overy de ongeëvenaarde zesvoudige onderscheiding van “Most Innovative Law Firm in Europe”. \nZijn presentatie biedt een unieke inkijk in het internationale bedrijfsleven en het sluiten van complexe deals. Hij wordt bij u ingeleid door ere-advocaat Luc Demeyere. Na de voordracht is er ruim de tijd tot het stellen van vragen. Zoals gebruikelijk volgt nadien de reflectie van een PF jongere en ronden we onze vergadering af met een blik op de actualiteit binnen en buiten Vlaanderen. Opnieuw een vergadering om niet te missen! \nLeden kunnen zoals steeds niet leden uitnodigen op voorwaarde dat deze personen de vertrouwelijkheid van onze vergaderingen respecteren en de visie van Pro Flandria genegen zijn. Leden komen gratis. Niet leden betalen 45 euro. Iedereen die blijft voor de lunch betaalt daarvoor 70 euro. Iedereen dient wel in te schrijven. Hartelijke dank om tijdig in te schrijven. \nDank aan de vele leden die hun Pro Flandria lidmaatschap voor 2025-2026 reeds hebben hernieuwd! \nMogen we aan diegenen onder u die dat wellicht uit vergetelheid nog niet deden vragen het lidgeld zo snel als mogelijk te willen storten? U hebt daaromtrent een herinneringsmail ontvangen. Met hartelijke dank voor uw vertrouwen! \nHoogtepunt wordt zeker het 5e lustrum van Pro Flandria op zondag 29 maart 2026 met een Academische Zitting in Leuven in aanwezigheid van de Minister President en diverse prominenten. Voor onze leden zal die feestelijke zitting met receptie gratis zijn! Ter gelegenheid van 25 jaar Pro Flandria wordt die dag tevens een jubileum boek voorgesteld dat de focus legt op de uitdagingen die Vlaanderen te wachten staan. Dit boek zal aan zeer voordelige condities aan al onze leden worden aangeboden. \nU merkt het: Redenen te over om aan te sluiten of lid te blijven van onze Vlaamse netwerkorganisatie Pro Flandria die jaar in jaar uit blijft opkomen voor zelfbestuur\, responsabilisering en Vlaamse autonomie. \n\n\n\n\nMet vriendelijke\, Vlaamse groeten en graag tot zaterdag 15 november\,
URL:https://www.proflandria.be/event/dhr-wim-dejonghe-gewezen-voorzitter-internationaal-advocatenkantoor-allen-overy/
LOCATION:De Jachthoorn te Kontich\, Doornstraat 11\, Kontich\, Antwerpen\, 2550\, Belgium
CATEGORIES:Ledenvergadering
ATTACH;FMTTYPE=image/jpeg:https://www.proflandria.be/wp-content/uploads/2025/07/Uitnodiging-1.jpg
ORGANIZER;CN="Pro Flandria":MAILTO:secretaris@proflandria.be
END:VEVENT
BEGIN:VEVENT
DTSTART;TZID=Europe/Brussels:20260329T100000
DTEND;TZID=Europe/Brussels:20260329T160000
DTSTAMP:20260425T155108
CREATED:20250714T194202Z
LAST-MODIFIED:20260224T193224Z
UID:4574-1774778400-1774800000@www.proflandria.be
SUMMARY:5de Lustrum Viering Pro Flandria
DESCRIPTION:  \nPro Flandria\, de Vlaamse dynamische en partij-onafhankelijke netwerkorganisatie bestaat 25 jaar en dat willen we gepast vieren met een Academische Zitting op zondag 29 maart 2026 in de Faculty Club van de universiteitsstad Leuven\, vanaf 10u.  \nReeds 25 jaar verdedigt Pro Flandria de belangen van Vlaanderen vanuit een duidelijke visie rond drie pijlers: zelfbestuur voor Vlaanderen\, respect voor normen en waarden en vrij en verantwoordelijk ondernemerschap. \nVia spraakmakende netwerkevenementen voor onze leden en via publieke colloquia houdt Pro Flandria de vinger aan de pols van de maatschappelijke\, economische en staatkundige uitdagingen.\nIn het recente verleden mochten wij onder andere Bart De Wever\, Matthias Diependaele\, Koenraad Debackere\, Gerolf Annemans\, Jan Jambon\, Barbara Pas\, Koen Geens\, Mark Elchardus\, Quinten Jacobs\, Jonathan Holslag\, Luckas Vander Taelen\, Rik Torfs\, Bart Van Malderen\, Peter De Keyzer\, Ivan Van de Cloot en Frank Beckx als sprekers verwelkomen. \nOp zondag 29 maart vieren we ons 5e Lustrum in aanwezigheid van Minister President dhr Matthias Diependaele\, meerdere voormalige Minister-Presidenten en de Rector van de KULeuven\, mevrouw Séverine Vermeire.  \nBij die gelegenheid wordt het Pro Flandria Lustrum boek voorgesteld en in een paneldebat besproken. Dit boek is uitgegeven bij Ertsberg onder de titel “Het geslaagde maar geplaagde Vlaanderen“. Gerenommeerde schrijvers analyseren in dat boek de belangrijkste uitdagingen voor onze toekomst: industrie en ondernemen; zelfbestuur en responsabilisering\, degelijk onderwijs\, voldoende en prijsgunstige energie en de positie van Vlaanderen in het grote buitenland. \nNa Prof. Koenraad Debackere en dhr Fernand Huts nomineren we op deze Viering onze derde Vlaamse Meester in de persoon van gewezen Minister President Luc Van den Brande op wiens initiatief de 5 resoluties voor de staatkundige toekomst van Vlaanderen op 3 maart 1999 in het Vlaamse parlement werden goedgekeurd. \nTevens huldigen we onze leden die 25 jaar Pro Flandria lid zijn. \nVoor PF leden is de viering met receptie volledig gratis . Zij ontvangen die dag het Lustrum boek eveneens gratis.\nNiet leden zijn van harte welkom op deze publieke academische zitting. Voor 60 euro kunnen zij deelnemen aan de Viering met receptie en ontvangen zij eveneens het Lustrum boek (handelswaarde 25 euro). Na de receptie volgt een facultatieve lunch aan 80 euro voor iedereen. \nHet programma oogt als volgt: \n\n10u00 – Welkom in de Faculty Club \,Groot Begijnhof\, 14 te 3000 Leuven\n10u30 – Begroeting door KULeuven Rector mevrouw Séverine Vermeire en PF voorzitter John Dejaeger\n10u40 – Voorstelling van het PF Lustrum boek door uitgever dhr Karl Drabbe; Ertsberg gevolgd door een paneldebat met moderator Jan De Meulemeester\, journalist TrendsZ en Prof. Bart Maddens\, Prof. Erik Buyst\, mevr Sofie Geeroms en dhr Quinten Jacobs\n11u40 – Laudatio voor de derde Vlaamse Meester door Minister President Matthias Diependaele\n12u00 – Wederwoord van de derde Vlaamse Meester\, gewezen Minister President Luc Van den Brande\n12u15 – Huldiging van de PF leden die 25 jaar lid zijn\n12u30 – Receptie\n13u30 – Lunch\n\nDe muzikale omlijsting\, georganiseerd door dhr Hugo Van Geet\, bestaat uit Vlaamse klassieke muziek gebracht door het orkest Terra Nova Collective olv Vlad Weverbergh en met de sopraan Liesbeth Devos. \nWe zouden het bijzonder fijn vinden u die dag te mogen verwelkomen! Iedereen dient zich wel in te schrijven en zo nodig te betalen voor 21 maart.
URL:https://www.proflandria.be/event/5de-lustrum-viering-pro-flandria/
LOCATION:Faculty Club Leuven\, Groot Begijnhof 14\, Leuven\, Vlaams-Brabant\, 3000\, Belgium
CATEGORIES:Colloquium
ATTACH;FMTTYPE=image/png:https://www.proflandria.be/wp-content/uploads/2025/07/1.png
ORGANIZER;CN="Pro Flandria":MAILTO:secretaris@proflandria.be
END:VEVENT
BEGIN:VEVENT
DTSTART;TZID=Europe/Brussels:20260509T090000
DTEND;TZID=Europe/Brussels:20260509T160000
DTSTAMP:20260425T155108
CREATED:20260224T202925Z
LAST-MODIFIED:20260407T194403Z
UID:4680-1778317200-1778342400@www.proflandria.be
SUMMARY:"De Iraanse strijd voor democratie en secularisering" (Prof. Afshin Ellian)
DESCRIPTION:Beste dames en heren\, beste leden en vrienden van Pro Flandria\, \n  \nWe hebben net een zeer druk bijgewoonde 5e Lustrum Viering achter der rug . \nHartelijke dank aan de zeer vele aanwezigen en aan allen die hebben meegewerkt om van deze Lustrum Viering in de Faculty Club te Leuven een uniek en hoogstaand gebeuren te maken. \nDe talrijke lovende reacties die we mochten ontvangen zijn voor ons een stimulans om verder te gaan op de ingeslagen weg! \nNa deze Viering nemen we de draad van onze ledenvergaderingen terug op. \n  \nDe volgende samenkomst op zaterdag 9 mei zal ons meteen confronteren met de actualiteit van onze turbulente wereld. \nProf. Afshin Ellian (Teheran\, 1966) kwam in 1989 als politiek vluchteling naar Nederland waar hij verder studeerde en in 2003 promoveerde op een onderzoek naar de Waarheids- en Verzoeningscommissie van Zuid Afrika. Vandaag is hij hoogleraar encyclopedie van de rechtswetenschap aan de Universiteit Leiden en columnist bij EW (het vroegere Elsevier weekblad). \nAfshin Ellian heeft nare dingen meegemaakt. Het relaas over de vlucht uit zijn geboorteland is gruwelijk. Als vrijdenker wist hij te ontsnappen aan het regime van de ayatollahs \, trok hij te voet en per kameel door de woestijn en over de bergen naar Pakistan en Afghanistan en werd hij onderweg getroffen door malaria. \nVanuit Nederland zet hij zich vandaag onvermoeid in voor democratie en voor secularisering in zijn geboorteland Iran. Ook al is dit door voor hem persoonlijk zwaar en uitdagend. \n  \nWe citeren. \n“Voor het bewaren van onze vrijheid zijn offers nodig. We mogen ons niet gewonnen geven door intimidatie. Als je mooie woorden spreekt over vrijheidsrechten mag je niet inbinden als het moeilijk wordt . Anders blijft het holle retoriek“ \n“De droom van een vrij Iran is nooit ver weg in mijn gedachten. De bevolking in Iran is jong en liberaler \, hoger opgeleid en seculierder dan in andere landen van het Midden Oosten waar een regime wissel verkeerd afliep“ \n  \nOp zaterdag 9 mei is Prof. Afshin Ellian de gastspreker bij Pro Flandria. Het wordt een unieke getuigenis over een land en een regime dat de wereld beroert en niemand onverschillig laat\, over een land en een volk dat ooit de bakermat was van onze beschaving maar vandaag onder de knoet ligt van religieuze fanatici . \nU wilt er ongetwijfeld bij zijn! Graag tijdig inschrijven aub. Leden komen zoals steeds gratis naar onze activiteiten met receptie. Leden kunnen niet leden die ons genegen zijn en kennis willen maken met Pro Flandria uitnodigen . Zij betalen 45 euro voor vergadering en receptie. Iedereen die blijft voor de lunch betaalt 70 euro. We vergaderen zoals steeds onder de Chatham House Rules. \n  \nWe hopen u op 9 mei opnieuw talrijk te mogen begroeten!
URL:https://www.proflandria.be/event/afshin-ellian/
LOCATION:Hotel Serwir\, Astridlaan 57\, Sint-Niklaas\, Antwerpen\, 9100\, Belgium
CATEGORIES:Ledenvergadering
ATTACH;FMTTYPE=image/png:https://www.proflandria.be/wp-content/uploads/2026/02/Uitnodiging-1.0.png
ORGANIZER;CN="Pro Flandria":MAILTO:secretaris@proflandria.be
END:VEVENT
BEGIN:VEVENT
DTSTART;TZID=Europe/Brussels:20260708T190000
DTEND;TZID=Europe/Brussels:20260708T230000
DTSTAMP:20260425T155108
CREATED:20260407T193235Z
LAST-MODIFIED:20260407T193235Z
UID:4694-1783537200-1783551600@www.proflandria.be
SUMMARY:6de Colloquium
DESCRIPTION:
URL:https://www.proflandria.be/event/6de-colloquium/
END:VEVENT
BEGIN:VEVENT
DTSTART;TZID=Europe/Brussels:20260919T090000
DTEND;TZID=Europe/Brussels:20260919T160000
DTSTAMP:20260425T155108
CREATED:20260224T203141Z
LAST-MODIFIED:20260224T203141Z
UID:4682-1789808400-1789833600@www.proflandria.be
SUMMARY:Mia Doornaert
DESCRIPTION:Meer info volgt.
URL:https://www.proflandria.be/event/mia-doornaert/
LOCATION:Hotel Serwir\, Astridlaan 57\, Sint-Niklaas\, Antwerpen\, 9100\, Belgium
CATEGORIES:Ledenvergadering
ORGANIZER;CN="Pro Flandria":MAILTO:secretaris@proflandria.be
END:VEVENT
BEGIN:VEVENT
DTSTART;TZID=Europe/Brussels:20261219T090000
DTEND;TZID=Europe/Brussels:20261219T160000
DTSTAMP:20260425T155108
CREATED:20260224T203316Z
LAST-MODIFIED:20260224T203348Z
UID:4684-1797670800-1797696000@www.proflandria.be
SUMMARY:Jan Van Geet (VGP)
DESCRIPTION:Meer info volgt.
URL:https://www.proflandria.be/event/jan-van-geet-vgp/
LOCATION:Hotel Serwir\, Astridlaan 57\, Sint-Niklaas\, Antwerpen\, 9100\, Belgium
CATEGORIES:Ledenvergadering
ORGANIZER;CN="Pro Flandria":MAILTO:secretaris@proflandria.be
END:VEVENT
END:VCALENDAR