BEGIN:VCALENDAR
VERSION:2.0
PRODID:-//Pro Flandria - ECPv6.15.20//NONSGML v1.0//EN
CALSCALE:GREGORIAN
METHOD:PUBLISH
X-WR-CALNAME:Pro Flandria
X-ORIGINAL-URL:https://www.proflandria.be
X-WR-CALDESC:Evenementen voor Pro Flandria
REFRESH-INTERVAL;VALUE=DURATION:PT1H
X-Robots-Tag:noindex
X-PUBLISHED-TTL:PT1H
BEGIN:VTIMEZONE
TZID:Europe/Brussels
BEGIN:DAYLIGHT
TZOFFSETFROM:+0100
TZOFFSETTO:+0200
TZNAME:CEST
DTSTART:20210328T010000
END:DAYLIGHT
BEGIN:STANDARD
TZOFFSETFROM:+0200
TZOFFSETTO:+0100
TZNAME:CET
DTSTART:20211031T010000
END:STANDARD
BEGIN:DAYLIGHT
TZOFFSETFROM:+0100
TZOFFSETTO:+0200
TZNAME:CEST
DTSTART:20220327T010000
END:DAYLIGHT
BEGIN:STANDARD
TZOFFSETFROM:+0200
TZOFFSETTO:+0100
TZNAME:CET
DTSTART:20221030T010000
END:STANDARD
BEGIN:DAYLIGHT
TZOFFSETFROM:+0100
TZOFFSETTO:+0200
TZNAME:CEST
DTSTART:20230326T010000
END:DAYLIGHT
BEGIN:STANDARD
TZOFFSETFROM:+0200
TZOFFSETTO:+0100
TZNAME:CET
DTSTART:20231029T010000
END:STANDARD
BEGIN:DAYLIGHT
TZOFFSETFROM:+0100
TZOFFSETTO:+0200
TZNAME:CEST
DTSTART:20240331T010000
END:DAYLIGHT
BEGIN:STANDARD
TZOFFSETFROM:+0200
TZOFFSETTO:+0100
TZNAME:CET
DTSTART:20241027T010000
END:STANDARD
END:VTIMEZONE
BEGIN:VEVENT
DTSTART;TZID=Europe/Brussels:20230617T090000
DTEND;TZID=Europe/Brussels:20230617T130000
DTSTAMP:20260425T172458
CREATED:20250515T062910Z
LAST-MODIFIED:20250515T070908Z
UID:1188-1686992400-1687006800@www.proflandria.be
SUMMARY:Vlaanderen en België in het Europa van morgen
DESCRIPTION:Onze volgende spreker ligt vast …\nDit is een ledenvergadering.\nNiet leden enkel op uitnodiging!
URL:https://www.proflandria.be/event/vlaanderen-en-belgie-in-het-europa-van-morgen/
LOCATION:Biznis hotel Lokeren\, Zelebaan 100\, Lokeren\, Antwerpen\, 9160\, Belgium
CATEGORIES:Ledenvergadering
ATTACH;FMTTYPE=image/png:https://www.proflandria.be/wp-content/uploads/2025/05/Oud-4-1.png
ORGANIZER;CN="Pro Flandria":MAILTO:secretaris@proflandria.be
END:VEVENT
BEGIN:VEVENT
DTSTART;TZID=Europe/Brussels:20230318T090000
DTEND;TZID=Europe/Brussels:20230318T130000
DTSTAMP:20260425T172458
CREATED:20250515T063239Z
LAST-MODIFIED:20250515T070330Z
UID:1190-1679130000-1679144400@www.proflandria.be
SUMMARY:De staat van Vlaanderen
DESCRIPTION:Onze volgende spreker ligt vast …\nDit is een ledenvergadering.\nNiet leden enkel op uitnodiging!
URL:https://www.proflandria.be/event/de-staat-van-vlaanderen/
LOCATION:Van der valk\, Luitenant Lippenslaan 66\, Antwerpen\, Antwerpen\, 2140\, Belgium
CATEGORIES:Ledenvergadering
ATTACH;FMTTYPE=image/png:https://www.proflandria.be/wp-content/uploads/2025/05/Oud-5.png
ORGANIZER;CN="Pro Flandria":MAILTO:secretaris@proflandria.be
END:VEVENT
BEGIN:VEVENT
DTSTART;TZID=Europe/Brussels:20221203T090000
DTEND;TZID=Europe/Brussels:20221203T130000
DTSTAMP:20260425T172458
CREATED:20250515T065408Z
LAST-MODIFIED:20250515T065408Z
UID:1197-1670058000-1670072400@www.proflandria.be
SUMMARY:Hoe kijkt Nederland vandaag naar Vlaanderen?
DESCRIPTION:“Hoe kijkt Nederland vandaag naar Vlaanderen?”\nWat bindt ons? Wat scheidt ons?\nDhr. Syp Wynia (NL)\nPolitiek en economisch commentator en publicist\n\n\nLedenvergadering\n(Niet leden op uitnodiging)
URL:https://www.proflandria.be/event/hoe-kijkt-nederland-vandaag-naar-vlaanderen/
LOCATION:Biznis hotel Lokeren\, Zelebaan 100\, Lokeren\, Antwerpen\, 9160\, Belgium
CATEGORIES:Ledenvergadering
ATTACH;FMTTYPE=image/png:https://www.proflandria.be/wp-content/uploads/2025/05/Oud-6.png
ORGANIZER;CN="Pro Flandria":MAILTO:secretaris@proflandria.be
END:VEVENT
END:VCALENDAR