BEGIN:VCALENDAR
VERSION:2.0
PRODID:-//Pro Flandria - ECPv6.15.20//NONSGML v1.0//EN
CALSCALE:GREGORIAN
METHOD:PUBLISH
X-WR-CALNAME:Pro Flandria
X-ORIGINAL-URL:https://www.proflandria.be
X-WR-CALDESC:Evenementen voor Pro Flandria
REFRESH-INTERVAL;VALUE=DURATION:PT1H
X-Robots-Tag:noindex
X-PUBLISHED-TTL:PT1H
BEGIN:VTIMEZONE
TZID:Europe/Brussels
BEGIN:DAYLIGHT
TZOFFSETFROM:+0100
TZOFFSETTO:+0200
TZNAME:CEST
DTSTART:20230326T010000
END:DAYLIGHT
BEGIN:STANDARD
TZOFFSETFROM:+0200
TZOFFSETTO:+0100
TZNAME:CET
DTSTART:20231029T010000
END:STANDARD
BEGIN:DAYLIGHT
TZOFFSETFROM:+0100
TZOFFSETTO:+0200
TZNAME:CEST
DTSTART:20240331T010000
END:DAYLIGHT
BEGIN:STANDARD
TZOFFSETFROM:+0200
TZOFFSETTO:+0100
TZNAME:CET
DTSTART:20241027T010000
END:STANDARD
BEGIN:DAYLIGHT
TZOFFSETFROM:+0100
TZOFFSETTO:+0200
TZNAME:CEST
DTSTART:20250330T010000
END:DAYLIGHT
BEGIN:STANDARD
TZOFFSETFROM:+0200
TZOFFSETTO:+0100
TZNAME:CET
DTSTART:20251026T010000
END:STANDARD
END:VTIMEZONE
BEGIN:VEVENT
DTSTART;TZID=Europe/Brussels:20240703T183000
DTEND;TZID=Europe/Brussels:20240703T200500
DTSTAMP:20260426T030248
CREATED:20250320T103307Z
LAST-MODIFIED:20250320T103307Z
UID:230-1720031400-1720037100@www.proflandria.be
SUMMARY:Quo vadis na de verkiezingen van 9 juni?
DESCRIPTION:Ons publieke Pro Flandria colloquium op woensdag 3 juli 2024 kan op geen geschikter moment komen! Amper een maand na de verkiezingen maken we de bilan op en kijken we vooruit. “Vlaanderen quo vadis?” Komt er eindelijk een grote doorbraak naar Vlaamse autonomie en zelfstandigheid of wordt het opnieuw aanmodderen en verder afstevenen naar de financiële afgrond?\n\n\n\nWe doen dit met gerenommeerde experten. Prof. Bart Maddens leidt in en Bart Verhulst modereert een paneldebat met Rik Van Cauwelaert\, Siegfried Bracke\, Dorian de Meeûs\, Fleur Mees en Alain Mouton:\n\n\n· Hoe kijken zij naar de politieke toestand?\n· Wat met de vorming van de Vlaamse regering?\n· Hoe liggen de kaarten federaal?\n· Welke uitwegen zien zij om uit de geïnstitutionaliseerde impasse te geraken?\n\n\n\nJe merkt het: dit bijzonder actuele colloquium is niet te missen!\n\nNa het debat volgt een bondige Pro Flandria “11 Juli” toespraak en zingen we samen ons volkslied “De Vlaamse Leeuw”.\nDaarna is het tijd voor een mooie receptie.\n\n\n\nWe hopen u opnieuw zeer talrijk te mogen begroeten!\n\nDit publieke Pro Flandria colloquium loopt ism OVV – Overlegcentrum van Vlaamse Verenigingen en VVB (Vlaamse Volksbeweging)\, kadert in het programma “Vlaanderen Feest van 1 tot 11 Juli!” en staat open voor iedereen. Inschrijven is wel noodzakelijk! Leden van Pro Flandria dienen enkel in te schrijven\, hun deelname is vervat in het lidmaatschap; zij komen dus gratis. Niet Pro Flandria leden betalen 45 euro.\n\n\n\nAfspraak op woensdag 3 juli 2024 om 19u in De Jachthoorn te Kontich.\nGraag tijdig inschrijven aub voor 28/6.
URL:https://www.proflandria.be/event/quo-vadis-na-de-verkiezingen-van-9-juni/
LOCATION:De Jachthoorn te Kontich\, Doornstraat 11\, Kontich\, Antwerpen\, 2550\, Belgium
CATEGORIES:Colloquium
ATTACH;FMTTYPE=image/jpeg:https://www.proflandria.be/wp-content/uploads/2025/03/477997337_639369251810593_2738585516657679898_n-1.jpg
ORGANIZER;CN="Pro Flandria":MAILTO:secretaris@proflandria.be
END:VEVENT
BEGIN:VEVENT
DTSTART;TZID=Europe/Brussels:20240703T183000
DTEND;TZID=Europe/Brussels:20240703T213000
DTSTAMP:20260426T030248
CREATED:20250514T143519Z
LAST-MODIFIED:20250515T063749Z
UID:1165-1720031400-1720042200@www.proflandria.be
SUMMARY:Quo vadis na de verkiezingen van 9 juni ?
DESCRIPTION:Colloquium Pro Flandria i.s.m. OVV en VVB\n\n\nWoensdag 3 Juli – Kontich\nOns publieke PF colloquium op woensdag 3 juli 2024 kan op geen geschikter moment komen! Amper een maand na de verkiezingen maken we de bilan op en kijken we vooruit. “Vlaanderen quo vadis?” Komt er eindelijk een grote doorbraak naar Vlaamse autonomie en zelfstandigheid of wordt het opnieuw aanmodderen en verder afstevenen naar de financiële afgrond? \nWe doen dit met gerenommeerde experten. Prof. Bart Maddens leidt in en Bart Verhulst modereert een paneldebat met Rik Van Cauwelaert\, Siegfried Bracke\, Dorian de Meeûs\, Fleur Mees en Alain Mouton. Hoe kijken zij naar de politieke toestand? Wat met de vorming van de Vlaamse regering? Hoe liggen de kaarten federaal? Welke uitwegen zien zij om uit de geïnstitutionaliseerde impasse te geraken? \nProgramma\n\n18u30: Deuren open\n19u00: Welkom door Pro Flandria voorzitter John Dejaeger\n19u05: Prof. Bart Maddens (KU Leuven): inleiding\n19u30: Paneldebat\n20u50: 11 juli toespraak door Pro Flandria voorzitter John Dejaeger\n21u00: Samenzang: “De Vlaamse Leeuw”\n21u05: Netwerkreceptie tot 22u30\n\n\n\n\nPaneldebat\n\nMevr Fleur Mees (Het Laatste Nieuws)\nDhr Siegfried Bracke (Doorbraak)\nDhr Dorian de Meeûs (La Libre Belgique)\nDhr Alain Mouton (Trends)\nDhr Rik Van Cauwelaert (De Tijd)\nGemodereerd door de heer Bart Verhulst (VRT)
URL:https://www.proflandria.be/event/quo-vadis-na-de-verkiezingen-van-9-juni-2/
CATEGORIES:Colloquium
END:VEVENT
BEGIN:VEVENT
DTSTART;TZID=Europe/Brussels:20240712T090000
DTEND;TZID=Europe/Brussels:20240712T130000
DTSTAMP:20260426T030248
CREATED:20250319T095802Z
LAST-MODIFIED:20250515T074528Z
UID:61-1720774800-1720789200@www.proflandria.be
SUMMARY:Grenzen trekken! Over Vlaamse identeit & autonomie
DESCRIPTION:Vlaanderen was tot op heden vrij welvarend ondanks de grote opgelegde solidariteit naar Wallonië. Maar daar komt met rasse schreden een einde aan. Onze economie en industrie kreunt onder de hoge lasten en de oplopende kosten.\n\n\nWat via de weg van het gezonde verstand reeds lang tot stand had moeten komen\, namelijk autonomie\, responsabilisering en een zelfstandig en democratisch Vlaanderen\, zal er uiteindelijk komen uit pure noodzaak. Helaas zullen we eerst verder verarmen met onhoudbare schuldgraden zoals deze in Wallonië die ondertussen afstevent naar een hallucinante 300% brp
URL:https://www.proflandria.be/event/event-1/
LOCATION:Hotel Serwir\, Astridlaan 57\, Sint-Niklaas\, Antwerpen\, 9100\, Belgium
CATEGORIES:Colloquium
ATTACH;FMTTYPE=image/jpeg:https://www.proflandria.be/wp-content/uploads/2025/03/480237568_643336138080571_2006093256321278297_n-1.jpg
ORGANIZER;CN="Pro Flandria":MAILTO:secretaris@proflandria.be
END:VEVENT
END:VCALENDAR